Workbook

Sheet EA
C3: ESTADO DE ACTIVIDADES
C4: Del 01 de Enero al 30 de Septiembre del 2018 y 2017
C5: (Pesos)
E7: Ente Público: | F7: INSTITUTO TECNOLOGICO SUPERIOR DE SALVATIERRA
B10: Concepto | D10: 2018 | E10: 2017 | G10: Concepto | I10: 2018 | J10: 2017
B12: INGRESOS Y OTROS BENEFICIOS | G12: GASTOS Y OTRAS PÉRDIDAS
B13: Ingresos de la Gestión | D13: =SUM(D14:D21) -> 1930670 | E13: =SUM(E14:E21) -> 1564395.7 | G13: Gastos de Funcionamiento | I13: =SUM(I14:I16) -> 22128556 | J13: =SUM(J14:J16) -> 31677360
B14: Impuestos | D14: 0 | E14: 0 | G14: Servicios Personales | I14: 18422417 | J14: 25994967
B15: Cuotas y Aportaciones de Seguridad Social | D15: 0 | E15: 0 | G15: Materiales y Suministros | I15: 589382.23 | J15: 975775.95
B16: Contribuciones de Mejoras | D16: 0 | E16: 0 | G16: Servicios Generales | I16: 3116757.1 | J16: 4706616.7
B17: Derechos | D17: 0 | E17: 0
B18: Productos de Tipo Corriente | D18: 219204 | E18: 350620 | G18: Transferencia, Asignaciones, Subsidios y Otras Ayudas | I18: =SUM(I19:I27) -> 94967.32 | J18: =SUM(J19:J27) -> 491989.54
B19: Aprovechamientos de Tipo Corriente | D19: 1704312 | E19: 1200423.2 | G19: Transferencias Internas y Asignaciones al Sector Público | I19: 0 | J19: 0
B20: Ingresos por Venta de Bienes y Servicios | D20: 7154 | E20: 13352.5 | G20: Transferencias al Resto del Sector Público | I20: 0 | J20: 0
B21: Ingresos no Comprendidos en las Fracciones de la Ley de Ingresos Causados en Ejercicios Fiscales Anteriores Pendientes de Liquidación o Pago | D21: 0 | E21: 0 | G21: Subsidios y Subvenciones | I21: 0 | J21: 0
G22: Ayudas Sociales | I22: 94967.32 | J22: 491989.54
B23: Participaciones, Aportaciones, Transferencias, Asignaciones, Subsidios y Otras Ayudas | D23: =SUM(D24:D25) -> 27627264 | E23: =SUM(E24:E25) -> 30402048 | G23: Pensiones y Jubilaciones | I23: 0 | J23: 0
B24: Participaciones y Aportaciones | D24: 12536611 | E24: 14784821 | G24: Transferencias a Fideicomisos, Mandatos y Contratos Análogos | I24: 0 | J24: 0
B25: Transferencia, Asignaciones, Subsidios y Otras ayudas | D25: 15090653 | E25: 15617227 | G25: Transferencias a la Seguridad Social | I25: 0 | J25: 0
G26: Donativos | I26: 0 | J26: 0
B27: Otros Ingresos y Beneficios | D27: =SUM(D28:D32) -> 5584.11 | E27: =SUM(E28:E32) -> 9609.87 | G27: Transferencias al Exterior | I27: 0 | J27: 0
B28: Ingresos Financieros | D28: 5581.04 | E28: 9608.52
B29: Incremento por Variación de Inventarios | D29: 0 | E29: 0 | G29: Participaciones y Aportaciones | I29: =SUM(I30:I32) -> 0 | J29: =SUM(J30:J32) -> 0
B30: Disminución del Exceso de Estimaciones por Pérdida o Deterioro u Obsolescencia | D30: 0 | E30: 0 | G30: Participaciones | I30: 0 | J30: 0
B31: Disminución del Exceso de Provisiones | D31: 0 | E31: 0 | G31: Aportaciones | I31: 0 | J31: 0
B32: Otros Ingresos y Beneficios Varios | D32: 3.07 | E32: 1.35 | G32: Convenios | I32: 0 | J32: 0
B34: Total de Ingresos y Otros Beneficios | D34: =D13+D23+D27 -> 29563518 | E34: =E13+E23+E27 -> 31976054 | G34: Intereses, Comisiones y Otros Gastos de la Deuda Pública | I34: =SUM(I35:I39) -> 0 | J34: =SUM(J35:J39) -> 0
G35: Intereses de la Deuda Pública | I35: 0 | J35: 0
G36: Comisiones de la Deuda Pública | I36: 0 | J36: 0
G37: Gastos de la Deuda Pública | I37: 0 | J37: 0
G38: Costo por Coberturas | I38: 0 | J38: 0
G39: Apoyos Financieros | I39: 0 | J39: 0
G41: Otros Gastos y Pérdidas Extraordinarias | I41: =SUM(I42:I47) -> 6.15 | J41: =SUM(J42:J47) -> 2203174.1
G42: Estimaciones, Depreciaciones, Deterioros, Obsolescencia y Amortizaciones | I42: 0 | J42: 2203172.8
G43: Provisiones | I43: 0 | J43: 0
G44: Disminución de Inventarios | I44: 0 | J44: 0
G45: Aumento por Insuficiencia de Estimaciones por Pérdida o Deterioro y Obsolescencia | I45: 0 | J45: 0
G46: Aumento por Insuficiencia de Provisiones | I46: 0 | J46: 0
G47: Otros Gastos | I47: 6.15 | J47: 1.25
G49: Inversión Pública | I49: =SUM(I50) -> 0 | J49: =SUM(J50) -> 0
...

Sheet ESF
C2: ESTADO DE SITUACIÓN FINANCIERA
C3: Al 30 de Septiembre del 2018 y 2017
C4: (Pesos)
D5: Ente Público: | E5: INSTITUTO TECNOLOGICO SUPERIOR DE SALVATIERRA
B8: CONCEPTO | D8: Año | G8: CONCEPTO | I8: Año
D9: 2017 | E9: 2016 | I9: 2017 | J9: 2016
B12: ACTIVO | G12: PASIVO
B14: Activo Circulante | G14: Pasivo Circulante
B16: Efectivo y Equivalentes | D16: 20965858 | E16: 31302157 | G16: Cuentas por Pagar a Corto Plazo | I16: 571152.39 | J16: 9208849.3
B17: Derechos a Recibir Efectivo o Equivalentes | D17: 73121.77 | E17: 6608 | G17: Documentos por Pagar a Corto Plazo | I17: 0 | J17: 0
B18: Derechos a Recibir Bienes o Servicios | D18: 33001.33 | E18: 4001.15 | G18: Porción a Corto Plazo de la Deuda Pública a Largo Plazo | I18: 0 | J18: 0
B19: Inventarios | D19: 0 | E19: 0 | G19: Títulos y Valores a Corto Plazo | I19: 0 | J19: 0
B20: Almacenes | D20: 0 | E20: 0 | G20: Pasivos Diferidos a Corto Plazo | I20: 0 | J20: 0
B21: Estimación por Pérdida o Deterioro de Activos Circulantes | D21: 0 | E21: 0 | G21: Fondos y Bienes de Terceros en Garantía y/o Administración a Corto Plazo | I21: 0 | J21: 0
B22: Otros Activos Circulantes | D22: 1827 | E22: 1827 | G22: Provisiones a Corto Plazo | I22: 0 | J22: 0
G23: Otros Pasivos a Corto Plazo | I23: 29192.91 | J23: 24972.91
B24: Total de Activos Circulantes | D24: =SUM(D16:D22) -> 21073808 | E24: =SUM(E16:E22) -> 31314593
G25: Total de Pasivos Circulantes | I25: =SUM(I16:I23) -> 600345.3 | J25: =SUM(J16:J23) -> 9233822.2
B27: Activo No Circulante | G27: Pasivo No Circulante
B29: Inversiones Financieras a Largo Plazo | D29: 0 | E29: 0 | G29: Cuentas por Pagar a Largo Plazo | I29: 0 | J29: 0
B30: Derechos a Recibir Efectivo o Equivalentes a Largo Plazo | D30: 0 | E30: 0 | G30: Documentos por Pagar a Largo Plazo | I30: 0 | J30: 0
B31: Bienes Inmuebles, Infraestructura y Construcciones en Proceso | D31: 77451815 | E31: 77451815 | G31: Deuda Pública a Largo Plazo | I31: 0 | J31: 0
B32: Bienes Muebles | D32: 29111929 | E32: 28612722 | G32: Pasivos Diferidos a Largo Plazo | I32: 0 | J32: 0
B33: Activos Intangibles | D33: 2851.04 | E33: 2851.04 | G33: Fondos y Bienes de Terceros en Garantía y/o en Administración a Largo Plazo | I33: 0 | J33: 0
B34: Depreciación, Deterioro y Amortización Acumulada de Bienes | D34: -10645952 | E34: -10645952 | G34: Provisiones a Largo Plazo | I34: 0 | J34: 0
B35: Activos Diferidos | D35: 0 | E35: 0
B36: Estimación por Pérdida o Deterioro de Activos no Circulantes | D36: 0 | E36: 0 | G36: Total de Pasivos No Circulantes | I36: =SUM(I29:I34) -> 0 | J36: =SUM(J29:J34) -> 0
B37: Otros Activos no Circulantes | D37: 0 | E37: 0
G38: Total del Pasivo | I38: =I25+I36 -> 600345.3 | J38: =J25+J36 -> 9233822.2
B39: Total de Activos No Circulantes | D39: =SUM(D29:D37) -> 95920643 | E39: =SUM(E29:E37) -> 95421436
G40: HACIENDA PÚBLICA/ PATRIMONIO
B41: Total del Activo | D41: =D24+D39 -> 1.1699445e+08 | E41: =E24+E39 -> 1.2673603e+08
G42: Hacienda Pública/Patrimonio Contribuido | I42: =SUM(I44:I46) -> 92265020 | J42: =SUM(J44:J46) -> 92222649
G44: Aportaciones | I44: 92265020 | J44: 92222649
G45: Donaciones de Capital | I45: 0 | J45: 0
G46: Actualización de la Hacienda Pública / Patrimonio | I46: 0 | J46: 0
G48: Hacienda Pública/Patrimonio Generado | I48: =SUM(I50:I54) -> 24129086 | J48: =SUM(J50:J54) -> 25279558
G50: Resultados del Ejercicio (Ahorro / Desahorro) | I50: 7339988.4 | J50: -2396469.6
G51: Resultados de Ejercicios Anteriores | I51: 16789098 | J51: 27676028
G52: Revalúos | I52: 0 | J52: 0
...

Sheet ECSF
D2: ESTADO DE CAMBIOS EN LA SITUACIÓN FINANCIERA
B3: Al 30 de Septiembre del 2018
B4: (Pesos)
E5: Ente Público: | F5: INSTITUTO TECNOLOGICO SUPERIOR DE SALVATIERRA
C9: Concepto | E9: Origen | F9: Aplicación | H9: Concepto | J9: Origen | K9: Aplicación
C12: ACTIVO | E12: =E14+E24 -> 0 | F12: =F14+F24 -> -9741577.4 | H12: PASIVO | J12: =J14+J25 -> 4220 | K12: =K14+K25 -> 8637696.9
C14: Activo Circulante | E14: =SUM(E16:E22) -> 0 | F14: =SUM(F16:F22) -> -10240784 | H14: Pasivo Circulante | J14: =SUM(J16:J23) -> 4220 | K14: =SUM(K16:K23) -> 8637696.9
C16: Efectivo y Equivalentes | E16: 0 | F16: =IF(E16>0,0,ESF!D16-ESF!E16) -> -10336298 | H16: Cuentas por Pagar a Corto Plazo | J16: =IF(ESF!I16>ESF!J16,ESF!I16-ESF!J16,0) -> 0 | K16: =IF(J16>0,0,ESF!J16-ESF!I16) -> 8637696.9
C17: Derechos a Recibir Efectivo o Equivalentes | E17: =IF(ESF!D17<ESF!E17,ESF!E17-ESF!D17,0) -> 0 | F17: =IF(E17>0,0,ESF!D17-ESF!E17) -> 66513.77 | H17: Documentos por Pagar a Corto Plazo | J17: =IF(ESF!I17>ESF!J17,ESF!I17-ESF!J17,0) -> 0 | K17: =IF(J17>0,0,ESF!J17-ESF!I17) -> 0
C18: Derechos a Recibir Bienes o Servicios | E18: =IF(ESF!D18<ESF!E18,ESF!E18-ESF!D18,0) -> 0 | F18: =IF(E18>0,0,ESF!D18-ESF!E18) -> 29000.18 | H18: Porción a Corto Plazo de la Deuda Pública a Largo Plazo | J18: =IF(ESF!I18>ESF!J18,ESF!I18-ESF!J18,0) -> 0 | K18: =IF(J18>0,0,ESF!J18-ESF!I18) -> 0
C19: Inventarios | E19: =IF(ESF!D19<ESF!E19,ESF!E19-ESF!D19,0) -> 0 | F19: =IF(E19>0,0,ESF!D19-ESF!E19) -> 0 | H19: Títulos y Valores a Corto Plazo | J19: =IF(ESF!I19>ESF!J19,ESF!I19-ESF!J19,0) -> 0 | K19: =IF(J19>0,0,ESF!J19-ESF!I19) -> 0
C20: Almacenes | E20: =IF(ESF!D20<ESF!E20,ESF!E20-ESF!D20,0) -> 0 | F20: =IF(E20>0,0,ESF!D20-ESF!E20) -> 0 | H20: Pasivos Diferidos a Corto Plazo | J20: =IF(ESF!I20>ESF!J20,ESF!I20-ESF!J20,0) -> 0 | K20: =IF(J20>0,0,ESF!J20-ESF!I20) -> 0
C21: Estimación por Pérdida o Deterioro de Activos Circulantes | E21: =IF(ESF!D21<ESF!E21,ESF!E21-ESF!D21,0) -> 0 | F21: =IF(E21>0,0,ESF!D21-ESF!E21) -> 0 | H21: Fondos y Bienes de Terceros en Garantía y/o Administración a Corto Plazo | J21: =IF(ESF!I21>ESF!J21,ESF!I21-ESF!J21,0) -> 0 | K21: =IF(J21>0,0,ESF!J21-ESF!I21) -> 0
C22: Otros Activos Circulantes | E22: =IF(ESF!D22<ESF!E22,ESF!E22-ESF!D22,0) -> 0 | F22: =IF(E22>0,0,ESF!D22-ESF!E22) -> 0 | H22: Provisiones a Corto Plazo | J22: =IF(ESF!I22>ESF!J22,ESF!I22-ESF!J22,0) -> 0 | K22: =IF(J22>0,0,ESF!J22-ESF!I22) -> 0
H23: Otros Pasivos a Corto Plazo | J23: =IF(ESF!I23>ESF!J23,ESF!I23-ESF!J23,0) -> 4220 | K23: =IF(J23>0,0,ESF!J23-ESF!I23) -> 0
C24: Activo No Circulante | E24: =SUM(E26:E34) -> 0 | F24: =SUM(F26:F34) -> 499206.97
H25: Pasivo No Circulante | J25: =SUM(J27:J32) -> 0 | K25: =SUM(K27:K32) -> 0
C26: Inversiones Financieras a Largo Plazo | E26: =IF(ESF!D29<ESF!E29,ESF!E29-ESF!D29,0) -> 0 | F26: =IF(E26>0,0,ESF!D29-ESF!E29) -> 0
C27: Derechos a Recibir Efectivo o Equivalentes a Largo Plazo | E27: =IF(ESF!D30<ESF!E30,ESF!E30-ESF!D30,0) -> 0 | F27: =IF(E27>0,0,ESF!D30-ESF!E30) -> 0 | H27: Cuentas por Pagar a Largo Plazo | J27: =IF(ESF!I29>ESF!J29,ESF!I29-ESF!J29,0) -> 0 | K27: =IF(J27>0,0,ESF!J29-ESF!I29) -> 0
C28: Bienes Inmuebles, Infraestructura y Construcciones en Proceso | E28: =IF(ESF!D31<ESF!E31,ESF!E31-ESF!D31,0) -> 0 | F28: =IF(E28>0,0,ESF!D31-ESF!E31) -> 0 | H28: Documentos por Pagar a Largo Plazo | J28: =IF(ESF!I30>ESF!J30,ESF!I30-ESF!J30,0) -> 0 | K28: =IF(J28>0,0,ESF!J30-ESF!I30) -> 0
C29: Bienes Muebles | E29: =IF(ESF!D32<ESF!E32,ESF!E32-ESF!D32,0) -> 0 | F29: =IF(E29>0,0,ESF!D32-ESF!E32) -> 499206.97 | H29: Deuda Pública a Largo Plazo | J29: =IF(ESF!I31>ESF!J31,ESF!I31-ESF!J31,0) -> 0 | K29: =IF(J29>0,0,ESF!J31-ESF!I31) -> 0
C30: Activos Intangibles | E30: =IF(ESF!D33<ESF!E33,ESF!E33-ESF!D33,0) -> 0 | F30: =IF(E30>0,0,ESF!D33-ESF!E33) -> 0 | H30: Pasivos Diferidos a Largo Plazo | J30: =IF(ESF!I32>ESF!J32,ESF!I32-ESF!J32,0) -> 0 | K30: =IF(J30>0,0,ESF!J32-ESF!I32) -> 0
C31: Depreciación, Deterioro y Amortización Acumulada de Bienes | E31: =IF(ESF!D34<ESF!E34,ESF!E34-ESF!D34,0) -> 0 | F31: =IF(E31>0,0,ESF!D34-ESF!E34) -> 0 | H31: Fondos y Bienes de Terceros en Garantía y/o en Administración a Largo Plazo | J31: =IF(ESF!I33>ESF!J33,ESF!I33-ESF!J33,0) -> 0 | K31: =IF(J31>0,0,ESF!J33-ESF!I33) -> 0
C32: Activos Diferidos | E32: =IF(ESF!D35<ESF!E35,ESF!E35-ESF!D35,0) -> 0 | F32: =IF(E32>0,0,ESF!D35-ESF!E35) -> 0 | H32: Provisiones a Largo Plazo | J32: =IF(ESF!I34>ESF!J34,ESF!I34-ESF!J34,0) -> 0 | K32: =IF(J32>0,0,ESF!J34-ESF!I34) -> 0
C33: Estimación por Pérdida o Deterioro de Activos no Circulantes | E33: =IF(ESF!D36<ESF!E36,ESF!E36-ESF!D36,0) -> 0 | F33: =IF(E33>0,0,ESF!D36-ESF!E36) -> 0
C34: Otros Activos no Circulantes | E34: =IF(ESF!D37<ESF!E37,ESF!E37-ESF!D37,0) -> 0 | F34: =IF(E34>0,0,ESF!D37-ESF!E37) -> 0 | H34: HACIENDA PÚBLICA/ PATRIMONIO | J34: =J36+J42+J50 -> 9778829.4 | K34: =K36+K42+K50 -> 10886930
H36: Hacienda Pública/Patrimonio Contribuido | J36: =SUM(J38:J40) -> 42371.36 | K36: =SUM(K38:K40) -> 0
H38: Aportaciones | J38: =IF(ESF!I44>ESF!J44,ESF!I44-ESF!J44,0) -> 42371.36 | K38: =IF(J38>0,0,ESF!J44-ESF!I44) -> 0
H39: Donaciones de Capital | J39: =IF(ESF!I45>ESF!J45,ESF!I45-ESF!J45,0) -> 0 | K39: =IF(J39>0,0,ESF!J45-ESF!I45) -> 0
H40: Actualización de la Hacienda Pública / Patrimonio | J40: =IF(ESF!I46>ESF!J46,ESF!I46-ESF!J46,0) -> 0 | K40: =IF(J40>0,0,ESF!J46-ESF!I46) -> 0
H42: Hacienda Pública/Patrimonio Generado | J42: =SUM(J44:J48) -> 9736458.1 | K42: =SUM(K44:K48) -> 10886930
H44: Resultados del Ejercicio (Ahorro / Desahorro) | J44: =IF(ESF!I50>ESF!J50,ESF!I50-ESF!J50,0) -> 9736458.1 | K44: =IF(J44>0,0,ESF!J50-ESF!I50) -> 0
H45: Resultados de Ejercicios Anteriores | J45: =IF(ESF!I51>ESF!J51,ESF!I51-ESF!J51,0) -> 0 | K45: =IF(J45>0,0,ESF!J51-ESF!I51) -> 10886930
H46: Revalúos | J46: =IF(ESF!I52>ESF!J52,ESF!I52-ESF!J52,0) -> 0 | K46: =IF(J46>0,0,ESF!J52-ESF!I52) -> 0
H47: Reservas | J47: =IF(ESF!I53>ESF!J53,ESF!I53-ESF!J53,0) -> 0 | K47: =IF(J47>0,0,ESF!J53-ESF!I53) -> 0
H48: Rectificaciones de Resultados de Ejercicios Anteriores | J48: =IF(ESF!I54>ESF!J54,ESF!I54-ESF!J54,0) -> 0 | K48: =IF(J48>0,0,ESF!J54-ESF!I54) -> 0
H50: Exceso o Insuficiencia en la Actualización de la Hacienda Pública/Patrimonio | J50: =SUM(J52:J53) -> 0 | K50: =SUM(K52:K53) -> 0
H52: Resultado por Posición Monetaria | J52: =IF(ESF!I58>ESF!J58,ESF!I58-ESF!J58,0) -> 0 | K52: =IF(J52>0,0,ESF!J58-ESF!I58) -> 0
H53: Resultado por Tenencia de Activos no Monetarios | J53: =IF(ESF!I59>ESF!J59,ESF!I59-ESF!J59,0) -> 0 | K53: =IF(J53>0,0,ESF!J59-ESF!I59) -> 0
C57: Bajo protesta de decir verdad declaramos que los Estados Financieros y sus Notas son razonablemente correctos y responsabilidad del emisor
...

Sheet PT_ESF_ECSF
A2: Sector: | E2: =ESF!#REF! -> #REF!
A3: Ente Público: | E3: =ESF!C5 -> 0
A4: Fecha:
A5: Edo. Financiero | E5: EF
C6: Año | E6: 2013
A7: Activo | B7: Activo Circulante | C7: Efectivo y Equivalentes | E7: =ESF!D16 -> 20965858
C8: Derechos a Recibir Efectivo o Equivalentes | E8: =ESF!D17 -> 73121.77
C9: Derechos a Recibir Bienes o Servicios | E9: =ESF!D18 -> 33001.33
C10: Inventarios | E10: =ESF!D19 -> 0
C11: Almacenes | E11: =ESF!D20 -> 0
C12: Estimación por Pérdida o Deterioro de Activos Circulantes | E12: =ESF!D21 -> 0
C13: Otros Activos Circulantes | E13: =ESF!D22 -> 1827
C14: Total de Activos Circulantes | E14: =ESF!D24 -> 21073808
B15: Activo No Circulante | C15: Inversiones Financieras a Largo Plazo | E15: =ESF!D29 -> 0
C16: Derechos a Recibir Efectivo o Equivalentes a Largo Plazo | E16: =ESF!D30 -> 0
C17: Bienes Inmuebles, Infraestructura y Construcciones en Proceso | E17: =ESF!D31 -> 77451815
C18: Bienes Muebles | E18: =ESF!D32 -> 29111929
C19: Activos Intangibles | E19: =ESF!D33 -> 2851.04
C20: Depreciación, Deterioro y Amortización Acumulada de Bienes | E20: =ESF!D34 -> -10645952
C21: Activos Diferidos | E21: =ESF!D35 -> 0
C22: Estimación por Pérdida o Deterioro de Activos no Circulantes | E22: =ESF!D36 -> 0
C23: Otros Activos no Circulantes | E23: =ESF!D37 -> 0
C24: Total de Activos No Circulantes | E24: =ESF!D39 -> 95920643
C25: TOTAL DEL ACTIVO | E25: =ESF!D41 -> 1.1699445e+08
A26: Pasivo | B26: Pasivo Circulante | C26: Cuentas por Pagar a Corto Plazo | E26: =ESF!I16 -> 571152.39
C27: Documentos por Pagar a Corto Plazo | E27: =ESF!I17 -> 0
C28: Porción a Corto Plazo de la Deuda Pública a Largo Plazo | E28: =ESF!I18 -> 0
C29: Títulos y Valores a Corto Plazo | E29: =ESF!I19 -> 0
C30: Pasivos Diferidos a Corto Plazo | E30: =ESF!I20 -> 0
C31: Fondos y Bienes de Terceros en Garantía y/o Administración a Corto Plazo | E31: =ESF!I21 -> 0
C32: Provisiones a Corto Plazo | E32: =ESF!I22 -> 0
C33: Otros Pasivos a Corto Plazo | E33: =ESF!I23 -> 29192.91
C34: Total de Pasivos Circulantes | E34: =ESF!I25 -> 600345.3
B35: Pasivo No Circulante | C35: Cuentas por Pagar a Largo Plazo | E35: =ESF!I29 -> 0
C36: Documentos por Pagar a Largo Plazo | E36: =ESF!I30 -> 0
C37: Deuda Pública a Largo Plazo | E37: =ESF!I31 -> 0
C38: Pasivos Diferidos a Largo Plazo | E38: =ESF!I32 -> 0
C39: Fondos y Bienes de Terceros en Garantía y/o en Administración a Largo Plazo | E39: =ESF!I33 -> 0
C40: Provisiones a Largo Plazo | E40: =ESF!I34 -> 0
C41: Total de Pasivos No Circulantes | E41: =ESF!I36 -> 0
...

Sheet EAA
C2: ESTADO ANALÍTICO DEL ACTIVO
A3: Al 30 de Septiembre del 2018
C4: (Pesos)
C5: Ente Público: | D5: INSTITUTO TECNOLOGICO SUPERIOR DE SALVATIERRA
B8: Concepto | D8: Saldo Inicial | E8: Cargos del Periodo | F8: Abonos del Periodo | G8: Saldo Final | H8: Variación del Periodo
D9: 1 | E9: 2 | F9: 3 | G9: 4 =(1+2-3) | H9: (4-1)
B12: ACTIVO | D12: =+D14+D24 -> 1.2673603e+08 | E12: =+E14+E24 -> 77504732 | F12: =+F14+F24 -> 87246309 | G12: =+D12+E12-F12 -> 1.1699445e+08 | H12: =+G12-D12 -> -9741577.4
G13: =+D13+E13-F13 -> 0
B14: Activo Circulante | D14: =SUM(D16:D22) -> 31314593 | E14: =SUM(E16:E22) -> 77005525 | F14: =SUM(F16:F22) -> 87246309 | G14: =+D14+E14-F14 -> 21073808 | H14: =+G14-D14 -> -10240784
B16: Efectivo y Equivalentes | D16: =+ESF!E16 -> 31302157 | E16: 43946677 | F16: 54282976 | G16: =+D16+E16-F16 -> 20965858 | H16: =+G16-D16 -> -10336298 | K16: =IF(G16=ESF!D16," ","Error")
B17: Derechos a Recibir Efectivo o Equivalentes | D17: =+ESF!E17 -> 6608 | E17: 32856247 | F17: 32789733 | G17: =+D17+E17-F17 -> 73121.77 | H17: =+G17-D17 -> 66513.77 | K17: =IF(G17=ESF!D17," ","Error") -> Error
B18: Derechos a Recibir Bienes o Servicios | D18: =+ESF!E18 -> 4001.15 | E18: 202600.58 | F18: 173600.4 | G18: =+D18+E18-F18 -> 33001.33 | H18: =+G18-D18 -> 29000.18 | K18: =IF(G18=ESF!D18," ","Error")
B19: Inventarios | D19: =+ESF!E19 -> 0 | E19: 0 | F19: 0 | G19: =+D19+E19-F19 -> 0 | H19: =+G19-D19 -> 0 | K19: =IF(G19=ESF!D19," ","Error")
B20: Almacenes | D20: =+ESF!E20 -> 0 | E20: 0 | F20: 0 | G20: =+D20+E20-F20 -> 0 | H20: =+G20-D20 -> 0 | K20: =IF(G20=ESF!D20," ","Error")
B21: Estimación por Pérdida o Deterioro de Activos Circulantes | D21: =+ESF!E21 -> 0 | E21: 0 | F21: 0 | G21: =+D21+E21-F21 -> 0 | H21: =+G21-D21 -> 0 | K21: =IF(G21=ESF!D21," ","Error")
B22: Otros Activos Circulantes | D22: =+ESF!E22 -> 1827 | E22: 0 | F22: 0 | G22: =+D22+E22-F22 -> 1827 | H22: =+G22-D22 -> 0 | K22: =IF(G22=ESF!D22," ","Error")
B24: Activo No Circulante | D24: =SUM(D26:D34) -> 95421436 | E24: =SUM(E26:E34) -> 499206.97 | F24: =SUM(F26:F34) -> 0 | G24: =+D24+E24-F24 -> 95920643 | H24: =+G24-D24 -> 499206.97
B26: Inversiones Financieras a Largo Plazo | D26: =+ESF!E29 -> 0 | E26: 0 | F26: 0 | G26: =+D26+E26-F26 -> 0 | H26: =+G26-D26 -> 0
B27: Derechos a Recibir Efectivo o Equivalentes a Largo Plazo | D27: =+ESF!E30 -> 0 | E27: 0 | F27: 0 | G27: =+D27+E27-F27 -> 0 | H27: =+G27-D27 -> 0
B28: Bienes Inmuebles, Infraestructura y Construcciones en Proceso | D28: =+ESF!E31 -> 77451815 | E28: 0 | F28: 0 | G28: =+D28+E28-F28 -> 77451815 | H28: =+G28-D28 -> 0
B29: Bienes Muebles | D29: =+ESF!E32 -> 28612722 | E29: 499206.97 | F29: 0 | G29: =+D29+E29-F29 -> 29111929 | H29: =+G29-D29 -> 499206.97
B30: Activos Intangibles | D30: =+ESF!E33 -> 2851.04 | E30: 0 | F30: 0 | G30: =+D30+E30-F30 -> 2851.04 | H30: =+G30-D30 -> 0
B31: Depreciación, Deterioro y Amortización Acumulada de Bienes | D31: =+ESF!E34 -> -10645952 | E31: 0 | F31: 0 | G31: =+D31+E31-F31 -> -10645952 | H31: =+G31-D31 -> 0
B32: Activos Diferidos | D32: =+ESF!E35 -> 0 | E32: 0 | F32: 0 | G32: =+D32+E32-F32 -> 0 | H32: =+G32-D32 -> 0
B33: Estimación por Pérdida o Deterioro de Activos no Circulantes | D33: =+ESF!E36 -> 0 | E33: 0 | F33: 0 | G33: =+D33+E33-F33 -> 0 | H33: =+G33-D33 -> 0
B34: Otros Activos no Circulantes | D34: =+ESF!E37 -> 0 | E34: 0 | F34: 0 | G34: =+D34+E34-F34 -> 0 | H34: =+G34-D34 -> 0 | K34: =IF(G34=ESF!D37," ","error")
B38: Bajo protesta de decir verdad declaramos que los Estados Financieros y sus Notas son razonablemente correctos y responsabilidad del emisor
B41: DR RODRIGO CARRASCO RAMIREZ | E41: CP RAMIRO CONTERAS RODRIGUEZ
B42: ENCARGADO DEL DESPACHO DE LA DIRECCION | E42: SUBDIRECTOR DE FINANZAS Y ADMINISTRACION

Sheet EADP
C2: ESTADO ANALÍTICO DE LA DEUDA Y OTROS PASIVOS
A3: Al 30 de Septiembre del 2018
C4: (Pesos)
D6: Ente Público: | E6: INSTITUTO TECNOLOGICO SUPERIOR DE SALVATIERRA
B9: Denominación de las Deudas | F9: Moneda de Contratación | G9: Institución o País Acreedor | H9: Saldo Inicial del Periodo | I9: Saldo Final del Periodo
B12: DEUDA PÚBLICA
B13: Corto Plazo
B14: Deuda Interna | H14: =SUM(H15:H17) -> 0 | I14: =SUM(I15:I17) -> 0
C15: Instituciones de Crédito | H15: 0 | I15: 0
C16: Títulos y Valores | H16: 0 | I16: 0
C17: Arrendamientos Financieros | H17: 0 | I17: 0
B19: Deuda Externa | H19: =SUM(H20:H23) -> 0 | I19: =SUM(I20:I23) -> 0
C20: Organismos Financieros Internacionales | H20: 0 | I20: 0
C21: Deuda Bilateral | H21: 0 | I21: 0
C22: Títulos y Valores | H22: 0 | I22: 0
C23: Arrendamientos Financieros | H23: 0 | I23: 0
B25: Subtotal a Corto Plazo | H25: =H14+H19 -> 0 | I25: =I14+I19 -> 0
B27: Largo Plazo
B28: Deuda Interna | H28: =SUM(H29:H31) -> 0 | I28: =SUM(I29:I31) -> 0
C29: Instituciones de Crédito | H29: 0 | I29: 0
C30: Títulos y Valores | H30: 0 | I30: 0
C31: Arrendamientos Financieros | H31: 0 | I31: 0
B33: Deuda Externa | H33: =SUM(H34:H37) -> 0 | I33: =SUM(I34:I37) -> 0
C34: Organismos Financieros Internacionales | H34: 0 | I34: 0
C35: Deuda Bilateral | H35: 0 | I35: 0
C36: Títulos y Valores | H36: 0 | I36: 0
C37: Arrendamientos Financieros | H37: 0 | I37: 0
B39: Subtotal a Largo Plazo | H39: =+H28+H33 -> 0 | I39: =+I28+I33 -> 0
B41: Otros Pasivos | H41: 9233822.2 | I41: 600345.3
B43: Total Deuda y Otros Pasivos | H43: =H25+H39+H41 -> 9233822.2 | I43: =I25+I39+I41 -> 600345.3
B46: Bajo protesta de decir verdad declaramos que los Estados Financieros y sus Notas son razonablemente correctos y responsabilidad del emisor
C49: DR. RODRIGO CARRASCO RAMIREZ | G49: CP RAMIRO CONTERAS RODRIGUEZ
C50: DIRECTOR GENERAL | G50: SUBDIRECTOR DE FINANZAS Y ADMINISTRACION

Sheet EVHP
C2: ESTADO DE VARIACIÓN DE LA HACIENDA PÚBLICA
A3: Al 30 de Septiembre del 2018
C4: (pesos)
C6: Ente Público: | D6: INSTITUTO TECNOLOGICO SUPERIOR DE SALVATIERRA
B9: Concepto | D9: Hacienda Pública/Patrimonio Contribuido | E9: Hacienda Pública/Patrimonio Generado de Ejercicios Anteriores | F9: Hacienda Pública/Patrimonio Generado del Ejercicio | G9: Ajustes por Cambios de Valor | H9: TOTAL
B12: Rectificaciones de Resultados de Ejercicios Anteriores | D12: 0 | E12: 0 | F12: 0 | G12: 0 | H12: =SUM(D12:G12) -> 0
B14: Patrimonio Neto Inicial Ajustado del Ejercicio | D14: =SUM(D15:D17) -> 92222649 | E14: =SUM(E15:E17) -> 0 | F14: =SUM(F15:F17) -> 0 | G14: =SUM(G15:G17) -> 0 | H14: =SUM(D14:G14) -> 92222649
B15: Aportaciones | D15: =+ESF!J44 -> 92222649 | E15: 0 | F15: 0 | G15: 0 | H15: =SUM(D15:G15) -> 92222649
B16: Donaciones de Capital | D16: 0 | E16: 0 | F16: 0 | G16: 0 | H16: =SUM(D16:G16) -> 0
B17: Actualización de la Hacienda Pública/Patrimonio | D17: 0 | E17: 0 | F17: 0 | G17: 0 | H17: =SUM(D17:G17) -> 0
B19: Variaciones de la Hacienda Pública/Patrimonio Neto del Ejercicio | D19: =SUM(D20:D23) -> 0 | E19: =SUM(E20:E23) -> 27676028 | F19: =SUM(F20:F23) -> -2396469.6 | G19: =SUM(G20:G23) -> 0 | H19: =SUM(D19:G19) -> 25279558
B20: Resultados del Ejercicio (Ahorro/Desahorro) | D20: 0 | F20: -2396469.6 | G20: 0 | H20: =SUM(D20:G20) -> -2396469.6
B21: Resultados de Ejercicios Anteriores | D21: 0 | E21: 27676028 | F21: 0 | G21: 0 | H21: =SUM(D21:G21) -> 27676028
B22: Revalúos | D22: 0 | E22: 0 | F22: 0 | G22: 0 | H22: =SUM(D22:G22) -> 0
B23: Reservas | D23: 0 | E23: 0 | F23: 0 | G23: 0 | H23: =SUM(D23:G23) -> 0
B25: Hacienda Pública/Patrimonio Neto Final del Ejercicio 2017 | D25: =D12+D14+D19 -> 92222649 | E25: =E12+E14+E19 -> 27676028 | F25: =F12+F14+F19 -> -2396469.6 | G25: =G12+G14+G19 -> 0 | H25: =SUM(D25:G25) -> 1.1750221e+08 | J25: =+ESF!J61-EVHP!H25 -> 0
B27: Cambios en la Hacienda Pública/Patrimonio Neto del Ejercicio 2018 | D27: =SUM(D28:D30) -> 42371.36 | E27: =SUM(E28:E30) -> 0 | F27: =SUM(F28:F30) -> 0 | G27: =SUM(G28:G30) -> 0 | H27: =SUM(D27:G27) -> 42371.36
B28: Aportaciones | D28: =+ESF!I44-D14 -> 42371.36 | E28: 0 | F28: 0 | G28: 0 | H28: =SUM(D28:G28) -> 42371.36
B29: Donaciones de Capital | D29: 0 | E29: 0 | F29: 0 | G29: 0 | H29: =SUM(D29:G29) -> 0
B30: Actualización de la Hacienda Pública/Patrimonio | D30: 0 | E30: 0 | F30: 0 | G30: 0 | H30: =SUM(D30:G30) -> 0
B32: Variaciones de la Hacienda Pública/Patrimonio Neto del Ejercicio | D32: =SUM(D33:D36) -> 0 | E32: =SUM(E33:E36) -> -10886930 | F32: =SUM(F33:F36) -> 9736458.1 | G32: =SUM(G33:G36) -> 0 | H32: =SUM(D32:G32) -> -1150471.9
B33: Resultados del Ejercicio (Ahorro/Desahorro) | D33: 0 | F33: 7339988.4 | G33: 0 | H33: =SUM(D33:G33) -> 7339988.4
B34: Resultados de Ejercicios Anteriores | D34: 0 | E34: -10886930 | F34: 2396469.6 | G34: 0 | H34: =SUM(D34:G34) -> -8490460.3
B35: Revalúos | D35: 0 | E35: 0 | F35: 0 | G35: 0 | H35: =SUM(D35:G35) -> 0
B36: Reservas | D36: 0 | E36: 0 | F36: 0 | G36: 0 | H36: =SUM(D36:G36) -> 0
B38: Saldo Neto en la Hacienda Pública / Patrimonio 2018 | D38: =D25+D27+D32 -> 92265020 | E38: =E25+E27+E32 -> 16789098 | F38: =+F25+F32 -> 7339988.4 | G38: =G25+G27+G32 -> 0 | H38: =SUM(D38:G38) -> 1.1639411e+08 | J38: =+H38-ESF!I61 -> 0
B41: Bajo protesta de decir verdad declaramos que los Estados Financieros y sus Notas son razonablemente correctos y responsabilidad del emisor
C43: __________________________________________
C44: DR. RODRIGO CARRASCO RAMIREZ | F44: CP RAMIRO CONTERAS RODRIGUEZ
C45: DIRECTOR GENERAL | F45: SUBDIRECTOR DE FINANZAS Y ADMINISTRACION

Sheet EFE
A2: ESTADOS DE FLUJOS DE EFECTIVO
A3: Al 30 de Septiembre del 2018
A4: (Pesos)
G6: Ente Público: | H6: INSTITUTO TECNOLOGICO SUPERIOR DE SALVATIERRA
B9: Concepto | G9: 2018 | H9: 2017 | J9: Concepto | O9: 2018 | P9: 2017
B12: Flujos de Efectivo de las Actividades de Gestión | J12: Flujos de Efectivo de las Actividades de Inversión
C14: Origen | G14: =SUM(G15:G25) -> 18052965 | H14: =SUM(H15:H25) -> 31976054 | K14: Origen | O14: =SUM(O15:O17) -> 42371.36 | P14: =SUM(P15:P17) -> 3588080.6
D15: Impuestos | G15: 0 | H15: 0 | L15: Bienes Inmuebles, Infraestructura y Construcciones en Proceso | O15: 42371.36 | P15: 3588080.6
D16: Cuotas y Aportaciones de Seguridad Social | L16: Bienes Muebles | O16: 0 | P16: 0
D17: Contribuciones de mejoras | G17: 0 | H17: 0 | L17: Otros Orígenes de Inversión | O17: 0 | P17: 0
D18: Derechos | G18: 0 | H18: 0
D19: Productos de Tipo Corriente | G19: 188494 | H19: 350620 | K19: Aplicación | O19: =SUM(O20:O22) -> 237959.57 | P19: =SUM(P20:P22) -> 7647905
D20: Aprovechamientos de Tipo Corriente | G20: 35342 | H20: 1200423.2 | L20: Bienes Inmuebles, Infraestructura y Construcciones en Proceso | O20: 0 | P20: 1028050.9
D21: Ingresos por Venta de Bienes y Servicios | G21: 3585.5 | H21: 13352.5 | L21: Bienes Muebles | O21: 237959.57 | P21: 6619854.1
D22: Ingresos no Comprendidos en las Fracciones de la Ley de Ingresos Causados en Ejercicios Fiscales Anteriores Pendientes de Liquidación o Pago | G22: 0 | H22: 0 | L22: Otras Aplicaciones de Inversión | O22: 0 | P22: 0
D23: Participaciones y Aportaciones | G23: 7522687 | H23: 14784821 | K23: Flujos Netos de Efectivo por Actividades de Inversión | O23: =O14-O19 -> -195588.21 | P23: =P14-P19 -> -4059824.4
D24: Transferencias, Asignaciones y Subsidios y Otras Ayudas | G24: 10298722 | H24: 15617227
D25: Otros Orígenes de Operación | G25: 4134.99 | H25: 9609.87
J26: Flujo de Efectivo de las Actividades de Financiamiento
C27: Aplicación | G27: =SUM(G28:G46) -> 14663650 | H27: =SUM(H28:H46) -> 34372523
D28: Servicios Personales | G28: 12350625 | H28: 25994967 | K28: Origen | O28: =O29+O32 -> 5794468.1 | P28: =P29+P32 -> 9440280.2
D29: Materiales y Suministros | G29: 357785.9 | H29: 975775.95 | L29: Endeudamiento Neto | O29: =SUM(O30:O31) -> 0 | P29: =SUM(P30:P31) -> 0
D30: Servicios Generales | G30: 1891616.2 | H30: 4706616.7 | L30: Interno | O30: 0 | P30: 0
L31: Externo | O31: 0 | P31: 0
D32: Transferencias Internas y Asignaciones al Sector Público | G32: 0 | H32: 0 | L32: Otros Orígenes de Financiamiento | O32: 5794468.1 | P32: 9440280.2
D33: Transferencias al resto del Sector Público | G33: 0 | H33: 0
D34: Subsidios y Subvenciones | G34: 0 | H34: 0 | K34: Aplicación | O34: =O35+O38 -> 20202522 | P34: =P35+P38 -> 3562473.6
D35: Ayudas Sociales | G35: 63617.32 | H35: 491989.54 | L35: Servicios de la Deuda | O35: =SUM(O36:O37) -> 0 | P35: =SUM(P36:P37) -> 0
D36: Pensiones y Jubilaciones | G36: 0 | H36: 0 | L36: Interno | O36: 0 | P36: 0
D37: Transferencias a Fideicomisos, Mandatos y Contratos Análogos | G37: 0 | H37: 0 | L37: Externo | O37: 0 | P37: 0
D38: Transferencias a la Seguridad Social | G38: 0 | H38: 0 | L38: Otras Aplicaciones de Financiamiento | O38: 20202522 | P38: 3562473.6
D39: Donativos | G39: 0 | H39: 0
D40: Transferencias al Exterior | G40: 0 | H40: 0 | K40: Flujos netos de Efectivo por Actividades de Financiamiento | O40: =O28-O34 -> -14408054 | P40: =P28-P34 -> 5877806.6
D42: Participaciones | G42: 0 | H42: 0
D43: Aportaciones | G43: 0 | H43: 0 | J43: Incremento/Disminución Neta en el Efectivo y Equivalentes al Efectivo | O43: =G48+O23+O40 -> -11214326 | P43: =H48+P23+P40 -> -578487.41
D44: Convenios | G44: 0 | H44: 0
D46: Otras Aplicaciones de Operación | G46: 5.48 | H46: 2203174.1
J47: Efectivo y Equivalente al Efectivo al Inicio del Ejericio | O47: 31302157 | P47: 30852593
C48: Flujos Netos de Efectivo por Actividades de Operación | G48: =G14-G27 -> 3389315.8 | H48: =H14-H27 -> -2396469.7 | J48: Efectivo y Equivalente al Efectivo al Final del Ejericio | O48: =+O47+O43 -> 20087830 | P48: 31302157
B53: Bajo protesta de decir verdad declaramos que los Estados Financieros y sus Notas son razonablemente correctos y responsabilidad del emisor
...

Sheet PC
A2: INFORME DE PASIVOS CONTIGENTES
A3: Al 30 de Septiembre del 2018
A4: (Pesos)
B6: Ente Público: | C6: INSTITUTO TECNOLOGICO SUPERIOR DE SALVATIERRA
A8: NOMBRE | B8: CONCEPTO
A9: JUICIOS
A14: GARANTÍAS | D14: NO APLICA
A19: AVALES
A24: PENSIONES Y JUBILACIONES
A27: Bajo protesta de decir verdad declaramos que los Estados Financieros y sus Notas son razonablemente correctos y responsabilidad del emisor
A31: ______________________________________________
A32: DR. RODRIGO CARRASCO RAMIREZ | D32: CP RAMIRO CONTERAS RODRIGUEZ
A33: DIRECTOR GENERAL | D33: SUBDIRECTOR DE FINANZAS Y ADMINISTRACION

Sheet NOTAS
A3: NOTAS A LOS ESTADOS FINANCIEROS
A4: Al 30 de Septiembre del 2018
C7: Ente Público: | D7: INSTITUTO TECNOLOGICO SUPERIOR DE SALVATIERA
A9: NOTAS DE DESGLOSE
B11: I) NOTAS AL ESTADO DE SITUACIÓN FINANCIERA
B13: ACTIVO
B15: * EFECTIVO Y EQUIVALENTES
C16: NO APLICA
B17: ESF-01 FONDOS C/INVERSIONES FINANCIERAS | C17: MONTO | D17: TIPO | E17: MONTO PARCIAL
B18: 1114 Inversiones a 3 meses | D18: 0 | E18: 0
D19: 0 | E19: 0
B20: 1121 Inversiones mayores a 3 meses hasta 12. | D20: 0 | E20: 0
D21: 0 | E21: 0
B22: 1211 INVERSIONES A LP | D22: 0 | E22: 0
C23: =SUM(C18:C22) -> 0 | E23: =SUM(E18:E22) -> 0
B27: * DERECHOSA RECIBIR EFECTIVO Y EQUIVALENTES Y BIENES O SERVICIOS A RECIBIR
B29: ESF-02 INGRESOS P/RECUPERAR | C29: MONTO | D29: 2017 | E29: 2016
B30: 1122 CUENTAS POR COBRAR CP
B31: 1122602001 CUENTAS POR COBRAR A ENTIDADES FED Y MPIOS | C31: 16575 | D31: 0 | E31: 0
B32: 1122902001 OTRAS CUENTAS POR COBRAR | D32: 0 | E32: 0
B33: 1124 INGRESOS POR RECUPERAR CP
C35: =SUM(C30:C34) -> 16575 | D35: =SUM(D30:D34) -> 0 | E35: =SUM(E30:E34) -> 0
B38: ESF-03 DEUDORES P/RECUPERAR | C38: MONTO | D38: 90 DIAS | E38: 180 DIAS | F38: 365 DIAS
B39: 1123 DEUDORES PENDIENTES POR RECUPERAR
B40: 1123101002 GASTOS A RESERVA DE COMPROBAR | C40: 48546.77 | D40: 48546.77
B41: 1125 DEUDORES POR ANTICIPOS
B42: 1125102001 FONDO FIJO | C42: 8000 | D42: 8000
B43: 1131001001 ANTICIPO A PROVEEDORES | C43: 33001.33 | D43: 33001.33
C44: =SUM(C38:C43) -> 89548.1 | D44: =SUM(D38:D43) -> 89548.1 | E44: =SUM(E38:E43) -> 0 | F44: =SUM(F38:F43) -> 0
B48: * BIENES DISPONIBLES PARA SU TRANSFORMACIÓN O CONSUMO.
C49: NO APLICA
B50: ESF-05 INVENTARIO Y ALMACENES | C50: MONTO | D50: METODO
B51: 1140 INVENTARIOS | D51: 0
D52: 0
B53: 1150 ALMACENES
D54: 0
C55: =SUM(C50:C54) -> 0
B59: * INVERSIONES FINANCIERAS.
C60: NO APLICA
B61: ESF-06 FIDEICOMISOS, MANDATOS Y CONTRATOS ANALOGOS | C61: MONTO | D61: TIPO | E61: CARACTERISTICAS | F61: NOMBRE DE FIDEICOMIS0O | G61: OBJETO
...

Sheet EAI
B1: ESTADO ANALÍTICO DE INGRESOS
D2: POR FUENTE DE FINANCIAMIENTO Y FUENTE DE FINANCIAMIENTO/RUBRO
B3: Del 1 de Enero al 30 de Septiembre de 2018
D5: Ente Público: | E5: INSTITUTO TECNOLOGICO SUPERIOR DE SALVATIERRA
B7: Rubro de Ingresos | E7: Ingreso | J7: Diferencia
E8: Estimado | F8: Ampliaciones y Reducciones | G8: Modificado | H8: Devengado | I8: Recaudado
E9: (1) | F9: (2) | G9: (3= 1 + 2) | H9: (4) | I9: (5) | J9: (6 = 5 - 1 )
B11: Impuestos | E11: 0 | F11: 0 | G11: =+E11+F11 -> 0 | H11: 0 | I11: 0 | J11: =+I11-E11 -> 0
B12: Cuotas y Aportaciones de Seguridad Social | E12: 0 | F12: 0 | G12: =+E12+F12 -> 0 | H12: 0 | I12: 0 | J12: =+I12-E12 -> 0
B13: Contribuciones de Mejoras | E13: 0 | F13: 0 | G13: =+E13+F13 -> 0 | H13: 0 | I13: 0 | J13: =+I13-E13 -> 0
B14: Derechos | E14: 0 | F14: 0 | G14: =+E14+F14 -> 0 | H14: 0 | I14: 0 | J14: =+I14-E14 -> 0
B15: Productos | E15: 364830 | F15: =+F16 -> 5581.04 | G15: =+E15+F15 -> 370411.04 | H15: =+H16 -> 224785.04 | I15: 224785.04 | J15: =+I15-E15 -> -140044.96
C16: Corriente | E16: 364830 | F16: 5581.04 | G16: =+E16+F16 -> 370411.04 | H16: 224785.04 | I16: 224785.04 | J16: =+I16-E16 -> -140044.96
C17: Capital
B18: Aprovechamientos | E18: =+E19 -> 3000 | F18: =+F19+F20 -> 1740790 | G18: =+E18+F18 -> 1743790 | H18: =+H19+H20 -> 1704312 | I18: =+I19+I20 -> 1704312 | J18: =+I18-E18 -> 1701312
C19: Corriente | E19: 3000 | F19: 1740790 | G19: =+E19+F19 -> 1743790 | H19: 1704312 | I19: 1704312 | J19: =+I19-E19 -> 1701312
C20: Capital | E20: 0 | F20: 0 | G20: 0 | H20: 0 | I20: 0 | J20: =+I20-E20 -> 0
C21: No Comprendidos en las fracciones de la Ley de Ingresos causadas en
C22: ejercicios fiscales anteriores pendiente de liquidación o pago
B23: Ingresos por Ventas de Bienes y Servicios | E23: 10000 | F23: 0 | G23: =+E23+F23 -> 10000 | H23: 7154 | I23: 7154 | J23: =+I23-E23 -> -2846
B24: Participaciones y Aportaciones | E24: 0 | F24: 17670929 | G24: =+E24+F24 -> 17670929 | H24: 12574811 | I24: 12574811 | J24: =+I24-E24 -> 12574811
B25: Transferencias, Asignaciones, Subsidios y Otras Ayudas | E25: 20513686 | F25: 166960.36 | G25: =+E25+F25 -> 20680646 | H25: 15094824 | I25: 15078249 | J25: =+I25-E25 -> -5435436.6
B26: Ingresos Derivados de Financiamientos
D28: Total | E28: =SUM(E11+E12+E13+E14+E15+E18+E23+E24+E25+E26) -> 20891516 | F28: =SUM(F11+F12+F13+F14+F15+F18+F23+F24+F25+F26) -> 19584260 | G28: =SUM(G11+G12+G13+G14+G15+G18+G23+G24+G25+G26) -> 40475776 | H28: =SUM(H11+H12+H13+H14+H15+H18+H23+H24+H25+H26) -> 29605886 | I28: =SUM(I11+I12+I13+I14+I15+I18+I23+I24+I25+I26) -> 29589311 | J28: =+J15+J18+J23+J24+J25 -> 8697795.5
H29: Ingresos excedentes¹
B31: Estado Analítico de Ingresos Por Fuente de Financiamiento | E31: Ingreso | J31: Diferencia
E32: Estimado | F32: Ampliaciones y Reducciones | G32: Modificado | H32: Devengado | I32: Recaudado
E33: (1) | F33: (2) | G33: (3= 1 + 2) | H33: (4) | I33: (5) | J33: (6 = 5 - 1 )
D35: INGRESOS PROPIOS | E35: =+E36+E38+E41 -> 377830 | F35: =+F37+F38+F41 -> 638395.9 | G35: =+G37+G38+G41 -> 1016225.9 | H35: =+H37+H38+H41 -> 314606.05 | I35: =+I37+I38+I41 -> 314606.05 | J35: =+J37+J38+J41 -> -63223.95
C36: Productos | E36: =+E37 -> 364830 | F36: =+F37 -> 5581.04 | G36: =+G37 -> 370411.04 | H36: =+H37 -> 224785.04 | I36: =+I37 -> 224785.04 | J36: =+J37 -> -140044.96
C37: Productos de tipo corriente | E37: 364830 | F37: 5581.04 | G37: =E37+F37 -> 370411.04 | H37: 224785.04 | I37: 224785.04 | J37: =I37-E37 -> -140044.96
C38: Aprovechamientos | E38: =SUM(E39:E40) -> 3000 | F38: =SUM(F39:F40) -> 632814.86 | G38: =+G39+G40 -> 635814.86 | H38: =SUM(H39:H40) -> 82667.01 | I38: =SUM(I39:I40) -> 82667.01 | J38: =+I38-E38 -> 79667.01
C39: Aprovechamientos de tipo corriente | E39: 3000 | F39: 81500 | G39: =E39+F39 -> 84500 | H39: 82667.01 | I39: 82667.01 | J39: =I39-E39 -> 79667.01
C40: Aprovechamientos no comprendidos en | E40: 0 | F40: 551314.86 | G40: =+E40+F40 -> 551314.86 | H40: 0 | I40: 0 | J40: =+I40-E40 -> 0
C41: Ing por venta de bienes y servicios | E41: =+E42 -> 10000 | F41: =+F42 -> 0 | G41: =+E41+F41 -> 10000 | H41: =+H42 -> 7154 | I41: =+I42 -> 7154 | J41: =+I41-E41 -> -2846
C42: Ing por venta de bienes y servicios Org. Descentralizados | E42: 10000 | F42: 0 | G42: =E42+F42 -> 10000 | H42: 7154 | I42: 7154 | J42: =I42-E42 -> -2846
D44: RECURSOS FEDERALES | E44: 0 | F44: =+F45+F47 -> 19162531 | G44: =+G45+G47 -> 19162531 | H44: =+H45+H47 -> 12574811 | I44: =+I45+I47 -> 12574811 | J44: =+J45+J47 -> 12574811
C45: Aprovechamientos | E45: 0 | F45: 0 | G45: 0 | H45: =+H46 -> 0 | I45: =+I46 -> 0 | J45: =+J46 -> 0
C46: Aprovechamientos no comprendidos en | E46: 0 | F46: 0 | G46: 0 | H46: 0 | I46: 0 | J46: =+I46-E46 -> 0
C47: Participaciones y aportaciones | E47: 0 | F47: =+F48 -> 19162531 | G47: =+G48 -> 19162531 | H47: =+H48 -> 12574811 | I47: =+I48 -> 12574811 | J47: =+J48 -> 12574811
...

Sheet CAdmon
B2: ESTADO ANALÍTICO DEL EJERCICIO DEL PRESUPUESTO DE EGRESOS
B3: CLASIFICACIÓN ADMINISTRATIVA
B4: Del 1 de Enero al 30 de Septiembre de 2018
C6: Ente Público: | D6: INSTITUTO TECNOLOGICO SUPERIOR DE SALVATIERRA
B8: Concepto | D8: Egresos | K8: Subejercicio
D9: Aprobado | E9: Ampliaciones/ (Reducciones) | F9: Modificado | G9: Comprometido | H9: Devengado | I9: Ejercido | J9: Pagado
D10: 1 | E10: 2 | F10: 3 = (1 + 2 ) | G10: 4 | H10: 5 | I10: 6 | J10: 7 | K10: 6 = ( 3 - 5 )
C12: ENTIDADES PARAESTATALES | D12: 20891516 | E12: 22091226 | F12: =D12+E12 -> 42982742 | G12: 26588903 | H12: 22722731 | I12: 22722731 | J12: 22564722 | K12: =F12-H12 -> 20260011
D13: 0 | E13: 0 | F13: =+D13+E13 -> 0 | G13: 0 | H13: 0 | I13: 0 | J13: 0 | K13: =+F13-H13 -> 0
D14: 0 | E14: 0 | F14: =+D14+E14 -> 0 | G14: 0 | H14: 0 | I14: 0 | J14: 0 | K14: =+F14-H14 -> 0
D15: 0 | E15: 0 | F15: =+D15+E15 -> 0 | G15: 0 | H15: 0 | I15: 0 | J15: 0 | K15: =+F15-H15 -> 0
D16: 0 | E16: 0 | F16: =+D16+E16 -> 0 | G16: 0 | H16: 0 | I16: 0 | J16: 0 | K16: =+F16-H16 -> 0
D17: 0 | E17: 0 | F17: =+D17+E17 -> 0 | G17: 0 | H17: 0 | I17: 0 | J17: 0 | K17: =+F17-H17 -> 0
D18: 0 | E18: 0 | F18: =+D18+E18 -> 0 | G18: 0 | H18: 0 | I18: 0 | J18: 0 | K18: =+F18-H18 -> 0
D19: 0 | E19: 0 | F19: =+D19+E19 -> 0 | G19: 0 | H19: 0 | I19: 0 | J19: 0 | K19: =+F19-H19 -> 0
D20: 0 | E20: 0 | F20: 0 | G20: 0 | H20: 0 | I20: 0 | J20: 0 | K20: =+F20-H20 -> 0
C22: Total del Gasto | D22: =SUM(D12:D20) -> 20891516 | E22: =SUM(E12:E20) -> 22091226 | F22: =SUM(F12:F20) -> 42982742 | G22: =SUM(G12:G20) -> 26588903 | H22: =SUM(H12:H20) -> 22722731 | I22: =SUM(I12:I20) -> 22722731 | J22: =SUM(J12:J20) -> 22564722 | K22: =SUM(K12:K20) -> 20260011
B24: Bajo protesta de decir verdad declaramos que los Estados Financieros y sus Notas son razonablemente correctos y responsabilidad del emisor
C27: ________________________________________ | F27: ________________________________________
C28: DR. RODRIGO CARRASCO RAMIREZ | F28: CP RAMIRO CONTRERAS RODRIGUEZ
C29: DIRECTOR GENERAL | F29: SUBDIRECTOR DE FINANZAS Y ADMINISTRACION

Sheet CTG
B1: ESTADO ANALÍTICO DEL EJERCICIO DEL PRESUPUESTO DE EGRESOS
B2: CLASIFICACIÓN ECONÓMICA (POR TIPO DE GASTO)
B3: Del 1 de Enero al 30 de Septiembre de 2018
C5: Ente Público: | D5: INSTITUTO TECNOLOGICO SUPERIOR DE SALVATIERRA
B7: Concepto | D7: Egresos | K7: Subejercicio
D8: Aprobado | E8: Ampliaciones/ (Reducciones) | F8: Modificado | G8: Comprometido | H8: Devengado | I8: Ejercido | J8: Pagado
D9: 1 | E9: 2 | F9: 3 = (1 + 2 ) | G9: 4 | H9: 5 | I9: 6 | J9: 7 | K9: 6 = ( 3 - 5 )
C11: Gasto Corriente | D11: 20563686 | E11: 18566347 | F11: =+D11+E11 -> 39130033 | G11: 23639032 | H11: 22223524 | I11: 22223524 | J11: 22065515 | K11: =+F11-H11 -> 16906509
C13: Gasto de Capital | D13: 327830 | E13: 3524879 | F13: =+D13+E13 -> 3852709 | G13: 2949871.8 | H13: 499206.97 | I13: 499206.97 | J13: 499206.97 | K13: =+F13-H13 -> 3353502
C15: Amortización de la Deuda y Disminución de Pasivos | F15: =+D15+E15 -> 0 | K15: =+F15-H15 -> 0
C17: Total del Gasto | D17: =+D11+D13+D15 -> 20891516 | E17: =+E11+E13+E15 -> 22091226 | F17: =+F11+F13+F15 -> 42982742 | G17: =+G11+G13+G15 -> 26588903 | H17: =+H11+H13+H15 -> 22722731 | I17: =+I11+I13+I15 -> 22722731 | J17: =+J11+J13+J15 -> 22564722 | K17: =+K11+K13+K15 -> 20260011
C19: Bajo protesta de decir verdad declaramos que los Estados Financieros y sus Notas son razonablemente correctos y responsabilidad del emisor
D20: =IF(D17=CAdmon!D22," ","ERROR") | E20: =IF(E17=CAdmon!E22," ","ERROR") | F20: =IF(F17=CAdmon!F22," ","ERROR") | H20: =IF(H17=CAdmon!H22," ","ERROR") | J20: =IF(J17=CAdmon!J22," ","ERROR") | K20: =IF(K17=CAdmon!K22," ","ERROR")
F21: _______________________________________
C22: DR. RODRIGO CARRASCO RAMIREZ | F22: CP RAMIRO CONTRERAS RODRIGUEZ
C23: DIRECTOR GENERAL | F23: SUBDIRECTOR DE FINANZAS Y ADMINISTRACION

Sheet COG
B1: ESTADO ANALÍTICO DEL EJERCICIO DEL PRESUPUESTO DE EGRESOS
B2: CLASIFICACIÓN POR OBJETO DEL GASTO (CAPÍTULO Y CONCEPTO)
B3: Del 1 de Enero al 30 de Septiembre de 2018
C5: Ente Público: | D5: INSTITUTO TECNOLOGICO SUPERIOR DE SALVATIERRA
B7: Concepto | D7: Egresos | K7: Subejercicio
D8: Aprobado | E8: Ampliaciones/ (Reducciones) | F8: Modificado | G8: Comprometido | H8: Devengado | I8: Ejercido | J8: Pagado
D9: 1 | E9: 2 | F9: 3 = (1 + 2 ) | G9: 4 | H9: 5 | I9: 6 | J9: 7 | K9: 6 = ( 3 - 5 )
B10: Servicios Personales | D10: =SUM(D11:D17) -> 15608017 | E10: =SUM(E11:E17) -> 16027464 | F10: =SUM(F11:F17) -> 31635481 | G10: =SUM(G11:G17) -> 12364453 | H10: =SUM(H11:H17) -> 18422417 | I10: =SUM(I11:I17) -> 18264408 | J10: =SUM(J11:J17) -> 18264408 | K10: =SUM(K11:K17) -> 13213064
C11: Remuneraciones al personal de carácter permanente | D11: 10508792 | E11: 8479098.5 | F11: =D11+E11 -> 18987890 | G11: 9005021.9 | H11: 13360028 | I11: 13360028 | J11: 13360028 | K11: =F11-H11 -> 5627862.2
C12: Remuneraciones al personal de carácter transitorio | D12: 350000 | E12: 21513.61 | F12: =D12+E12 -> 371513.61 | G12: 170486.64 | H12: 251229.51 | I12: 251229.51 | J12: 251229.51 | K12: =F12-H12 -> 120284.1
C13: Remuneraciones adicionales y especiales | D13: 1661511.6 | E13: 2685272.8 | F13: =D13+E13 -> 4346784.4 | G13: 395361.14 | H13: 852297.1 | I13: 852297.1 | J13: 852297.1 | K13: =F13-H13 -> 3494487.3
C14: Seguridad Social | D14: 2381134.8 | E14: 2621405.2 | F14: =D14+E14 -> 5002540 | G14: 2062633.3 | H14: 2873096.8 | I14: 2715087.9 | J14: 2715087.9 | K14: =F14-H14 -> 2129443.2
C15: Otras prestaciones sociales y económicas | D15: 706578.93 | E15: 935095.95 | F15: =D15+E15 -> 1641674.9 | G15: 730949.81 | H15: 1085765.6 | I15: 1085765.6 | J15: 1085765.6 | K15: =F15-H15 -> 555909.27
C16: Previsiones | D16: 0 | E16: 0 | F16: =D16+E16 -> 0 | G16: 0 | H16: 0 | I16: =F16-G16 -> 0 | J16: 0
C17: Pago de estímulos a servidores públicos | D17: 0 | E17: 1285078 | F17: =D17+E17 -> 1285078 | G17: 0 | H17: 0 | I17: 0 | J17: 0 | K17: =F17-H17 -> 1285078
B19: Materiales y Suministros | D19: =SUM(D20:D28) -> 482850 | E19: =SUM(E20:E28) -> 995702.33 | F19: =SUM(F20:F28) -> 1478552.3 | G19: =SUM(G20:G28) -> 970475.79 | H19: =SUM(H20:H28) -> 589382.23 | I19: =SUM(I20:I28) -> 589382.23 | J19: =SUM(J20:J28) -> 589382.23 | K19: =SUM(K20:K28) -> 889170.1
C20: Materiales de administración, emisión de documentos y artículos oficiales | D20: 138350 | E20: 345046.2 | F20: =D20+E20 -> 483396.2 | G20: 208989.25 | H20: 162776.51 | I20: 162776.51 | J20: 162776.51 | K20: =F20-H20 -> 320619.69
C21: Alimentos y utensilios | D21: 17000 | E21: 32257.45 | F21: =D21+E21 -> 49257.45 | G21: 36970.81 | H21: 33763.99 | I21: 33763.99 | J21: 33763.99 | K21: =F21-H21 -> 15493.46
C22: Materias primas y materiales de producción y comercialización | D22: 1500 | E22: 6444 | F22: =D22+E22 -> 7944 | G22: 7943.38 | H22: 1383.4 | I22: 1383.4 | J22: 1383.4 | K22: =F22-H22 -> 6560.6
C23: Materiales y artículos de construcción y de reparación | D23: 45000 | E23: 124436.17 | F23: =D23+E23 -> 169436.17 | G23: 163510.57 | H23: 79103.85 | I23: 79103.85 | J23: 79103.85 | K23: =F23-H23 -> 90332.32
C24: Productos químicos, farmacéuticos y de laboratorio | D24: 64500 | E24: 38001.29 | F24: =D24+E24 -> 102501.29 | G24: 92561.96 | H24: 27210.66 | I24: 27210.66 | J24: 27210.66 | K24: =F24-H24 -> 75290.63
C25: Combustibles, lubricantes y aditivos | D25: 105000 | E25: 132238.8 | F25: =D25+E25 -> 237238.8 | G25: 183736.68 | H25: 153812.45 | I25: 153812.45 | J25: 153812.45 | K25: =F25-H25 -> 83426.35
C26: Vestuario, blancos, prendas de protección y artículos deportivos | D26: 55000 | E26: 105579.71 | F26: =D26+E26 -> 160579.71 | G26: 99209 | H26: 19420.89 | I26: 19420.89 | J26: 19420.89 | K26: =F26-H26 -> 141158.82
C27: Materiales y suministros para seguridad | D27: 0 | E27: 0 | F27: =D27+E27 -> 0 | G27: 0 | H27: 0 | I27: 0 | J27: 0 | K27: =F27-H27 -> 0
C28: Herramientas, refacciones y accesorios menores | D28: 56500 | E28: 211698.71 | F28: =D28+E28 -> 268198.71 | G28: 177554.14 | H28: 111910.48 | I28: 111910.48 | J28: 111910.48 | K28: =F28-H28 -> 156288.23
B29: Servicios Generales | D29: =SUM(D30:D38) -> 3350075 | E29: =SUM(E30:E38) -> 2462843.4 | F29: =+D29+E29 -> 5812918.4 | H29: =SUM(H30:H38) -> 3116757.1 | J29: =SUM(J30:J38) -> 3116757.1 | K29: =+F29-H29 -> 2696161.3
C30: Servicios básicos | D30: 577399 | E30: 363337.86 | F30: =D30+E30 -> 940736.86 | G30: 675289.7 | H30: 609726.15 | I30: 609726.15 | J30: 609726.15 | K30: =F30-H30 -> 331010.71
C31: Servicios de arrendamiento | D31: 180000 | E31: 121924.98 | F31: =D31+E31 -> 301924.98 | G31: 205762.98 | H31: 96364.98 | I31: 96364.98 | J31: 96364.98 | K31: =F31-H31 -> 205560
C32: Servicios profesionales, científicos, técnicos y otros servicios | D32: 567000 | E32: 276324 | F32: =D32+E32 -> 843324 | G32: 586856.97 | H32: 451856.97 | I32: 451856.97 | J32: 451856.97 | K32: =F32-H32 -> 391467.03
C33: Servicios financieros, bancarios y comerciales | D33: 30000 | E33: 71503.95 | F33: =D33+E33 -> 101503.95 | G33: 101503.95 | H33: 101503.95 | I33: 101503.95 | J33: 101503.95 | K33: =F33-H33 -> 0
C34: Servicios de instalación, reparación, mantenimiento y conservación | D34: 1135170 | E34: 689756.68 | F34: =D34+E34 -> 1824926.7 | G34: 1432282.5 | H34: 1086432.5 | I34: 1086432.5 | J34: 1086432.5 | K34: =F34-H34 -> 738494.17
C35: Servicios de comunicación social y publicidad | D35: 91500 | E35: 91500 | F35: =D35+E35 -> 183000 | G35: 157667.5 | H35: 12760 | I35: 12760 | J35: 12760 | K35: =F35-H35 -> 170240
C36: Servicios de traslado y viáticos | D36: 60750 | E36: 98968.29 | F36: =D36+E36 -> 159718.29 | G36: 138224.62 | H36: 72149.93 | I36: 72149.93 | J36: 72149.93 | K36: =F36-H36 -> 87568.36
C37: Servicios oficiales | D37: 175100 | E37: 100139.75 | F37: =D37+E37 -> 275239.75 | G37: 187605.9 | H37: 183536.9 | I37: 183536.9 | J37: 183536.9 | K37: =F37-H37 -> 91702.85
C38: Otros servicios generales | D38: 533156 | E38: 649387.86 | F38: =D38+E38 -> 1182543.9 | G38: 596640.06 | H38: 502425.7 | I38: 502425.7 | J38: 502425.7 | K38: =F38-H38 -> 680118.16
B39: Transferencias, Asignaciones, Subsidios y Otras Ayudas | D39: =SUM(D40:D40) -> 100000 | E39: =SUM(E40:E40) -> 97500 | F39: =+D39+E39 -> 197500 | H39: =SUM(H40:H40) -> 94967.32 | J39: =SUM(J40:J40) -> 94967.32 | K39: =+F39-H39 -> 102532.68
C40: Ayudas sociales | D40: 100000 | E40: 97500 | F40: =D40+E40 -> 197500 | G40: 147487.32 | H40: 94967.32 | I40: 94967.32 | J40: 94967.32 | K40: =F40-H40 -> 102532.68
B41: Bienes Muebles, Inmuebles e Intangibles | D41: =SUM(D42:D45) -> 327830 | E41: =SUM(E42:E45) -> 3524879 | F41: =SUM(F42:F45) -> 3852709 | G41: =SUM(G42:G45) -> 2949871.8 | H41: =SUM(H42:H45) -> 499206.97 | I41: =SUM(I42:I45) -> 499206.97 | J41: =SUM(J42:J45) -> 499206.97 | K41: =SUM(K42:K45) -> 3353502
C42: Mobiliario y equipo de administración | D42: 327830 | E42: 2032783.3 | F42: =D42+E42 -> 2360613.3 | G42: 1701342.3 | H42: 492343.54 | I42: 492343.54 | J42: 492343.54 | K42: =F42-H42 -> 1868269.7
C43: Mobiliario y equipo educacional y recreativo | E43: 76095.76 | F43: =D43+E43 -> 76095.76 | G43: 58511.43 | H43: 6863.43 | I43: 6863.43 | J43: 6863.43 | K43: =F43-H43 -> 69232.33
...

Sheet CFG
B1: ESTADO ANALÍTICO DEL EJERCICIO DEL PRESUPUESTO DE EGRESOS
B2: CLASIFICACIÓN FUNCIONAL (FINALIDAD Y FUNCIÓN)
B3: Del 01 de Enero al 30 de Septiembre de 2018
C5: Ente Público: | D5: INSTITUTO TECNOLOGICO SUPERIOR DE SALVATIERRA
B7: Concepto | D7: Egresos | K7: Subejercicio
D8: Aprobado | E8: Ampliaciones/ (Reducciones) | F8: Modificado | G8: Comprometido | H8: Devengado | I8: Ejercido | J8: Pagado
D9: 1 | E9: 2 | F9: 3 = (1 + 2 ) | G9: 4 | H9: 5 | I9: 6 | J9: 7 | K9: 6 = ( 3 - 5 )
B11: Gobierno | D11: =SUM(D12:D20) -> 0 | E11: =SUM(E12:E20) -> 0 | F11: =SUM(F12:F20) -> 0 | G11: =SUM(G12:G20) -> 0 | H11: =SUM(H12:H20) -> 0 | I11: =SUM(I12:I20) -> 0 | J11: =SUM(J12:J20) -> 0 | K11: =SUM(K12:K20) -> 0
C12: Legislación | K12: =+F12-H12 -> 0
C13: Justicia | F13: =+D13+E13 -> 0 | K13: =+F13-H13 -> 0
C14: Coordinación de la Política de Gobierno | F14: =+D14+E14 -> 0 | K14: =+F14-H14 -> 0
C15: Relaciones Exteriores | F15: =+D15+E15 -> 0 | K15: =+F15-H15 -> 0
C16: Asuntos Financieros y Hacendarios | F16: =+D16+E16 -> 0 | K16: =+F16-H16 -> 0
C17: Seguridad Nacional | F17: =+D17+E17 -> 0 | K17: =+F17-H17 -> 0
C18: Asuntos de Orden Público y de Seguridad Interior | F18: =+D18+E18 -> 0 | K18: =+F18-H18 -> 0
C19: Otros Servicios Generales | F19: =+D19+E19 -> 0 | K19: =+F19-H19 -> 0
F20: =+D20+E20 -> 0
B21: Desarrollo Social | D21: =SUM(D22:D28) -> 20891516 | E21: =SUM(E22:E28) -> 22091226 | F21: =+D21+E21 -> 42982742 | G21: 22722731 | H21: =SUM(H22:H28) -> 22722731 | I21: 22722731 | J21: =SUM(J22:J28) -> 22564722 | K21: =+F21-H21 -> 20260011
C22: Protección Ambiental | F22: =+D22+E22 -> 0 | K22: =+F22-H22 -> 0
C23: Vivienda y Servicios a la Comunidad | F23: =+D23+E23 -> 0 | K23: =+F23-H23 -> 0
C24: Salud | F24: =+D24+E24 -> 0 | K24: =+F24-H24 -> 0
C25: Recreación, Cultura y Otras Manifestaciones Sociales | F25: =+D25+E25 -> 0 | K25: =+F25-H25 -> 0
C26: Educación | D26: 20891516 | E26: 22091226 | F26: =+D26+E26 -> 42982742 | G26: 26588903 | H26: 22722731 | I26: 22722731 | J26: 22564722 | K26: =+F26-H26 -> 20260011
C27: Protección Social | F27: =+D27+E27 -> 0 | K27: =+F27-H27 -> 0
C28: Otros Asuntos Sociales | F28: =+D28+E28 -> 0 | K28: =+F28-H28 -> 0
F29: =+D29+E29 -> 0
B30: Desarrollo Económico | D30: =SUM(D31:D39) -> 0 | E30: =SUM(E31:E39) -> 0 | F30: =+D30+E30 -> 0 | H30: =SUM(H31:H39) -> 0 | J30: =SUM(J31:J39) -> 0 | K30: =+F30-H30-J30 -> 0
C31: Asuntos Económicos, Comerciales y Laborales en General | F31: =+D31+E31 -> 0 | K31: =+F31-H31 -> 0
C32: Agropecuaria, Silvicultura, Pesca y Caza | E32: =660673.36-660673.36 -> 0 | F32: =+D32+E32 -> 0 | K32: =+F32-H32-J32 -> 0
C33: Combustibles y Energía | F33: =+D33+E33 -> 0 | K33: =+F33-H33 -> 0
C34: Minería, Manufacturas y Construcción | F34: =+D34+E34 -> 0 | K34: =+F34-H34 -> 0
C35: Transporte | F35: =+D35+E35 -> 0 | K35: =+F35-H35 -> 0
C36: Comunicaciones | F36: =+D36+E36 -> 0 | K36: =+F36-H36 -> 0
C37: Turismo | F37: =+D37+E37 -> 0 | K37: =+F37-H37 -> 0
C38: Ciencia, Tecnología e Innovación | F38: =+D38+E38 -> 0 | K38: =+F38-H38 -> 0
C39: Otras Industrias y Otros Asuntos Económicos | F39: =+D39+E39 -> 0 | K39: =+F39-H39 -> 0
B41: Otras no Clasificadas en Funciones Anteriores | D41: =SUM(D42:D45) -> 0 | E41: =SUM(E42:E45) -> 0 | F41: =+D41+E41 -> 0 | H41: =SUM(H42:H45) -> 0 | J41: =SUM(J42:J45) -> 0 | K41: =+F41-H41 -> 0
C42: Transacciones de la Deuda Publica / Costo Financiero de la Deuda | F42: =+D42+E42 -> 0 | K42: =+F42-H42 -> 0
C43: Transferencias, Participaciones y Aportaciones entre Diferentes Niveles y Ordenes de Gobierno | F43: =+D43+E43 -> 0 | K43: =+F43-H43 -> 0
C44: Saneamiento del Sistema Financiero | F44: =+D44+E44 -> 0 | K44: =+F44-H44 -> 0
...

Sheet EN
B1: ESTADO ANALÍTICO DEL EJERCICIO DEL PRESUPUESTO DE EGRESOS
B2: ENDEUDAMIENTO NETO
B3: Del 01 de Enero al 30 de Septiembre de 2018
D5: Ente Público: | E5: INSTITUTO TECNOLOGICO SUPERIOR DE SALVATIERRA
B7: Identificación de Crédito o Instrumento | D7: Contratación / Colocación | F7: Amortización | H7: Endeudamiento Neto
D8: A | F8: B | H8: C = A - B
B9: Créditos Bancarios
H10: =+D10-F10 -> 0
H11: =+D11-F11 -> 0
H12: =+D12-F12 -> 0
H13: =+D13-F13 -> 0
H14: =+D14-F14 -> 0
H15: =+D15-F15 -> 0
H16: =+D16-F16 -> 0
H17: =+D17-F17 -> 0
H18: =+D18-F18 -> 0
B19: Total Créditos Bancarios | D19: =SUM(D10:E18) -> 0 | F19: =SUM(F10:G18) -> 0 | H19: =+D19-F19 -> 0
B21: Otros Instrumentos de Deuda
H23: =+D23-F23 -> 0
H24: =+D24-F24 -> 0
H25: =+D25-F25 -> 0
H26: =+D26-F26 -> 0
H27: =+D27-F27 -> 0
H28: =+D28-F28 -> 0
H29: =+D29-F29 -> 0
H30: =+D30-F30 -> 0
B31: Total Otros Instrumentos de Deuda | D31: =SUM(D22:E30) -> 0 | F31: =SUM(F22:G30) -> 0 | H31: =+D31-F31 -> 0
B33: TOTAL | D33: =+D19+D31 -> 0 | F33: =+F19+F31 -> 0 | H33: =+H19+H31 -> 0
B35: Bajo protesta de decir verdad declaramos que los Estados Financieros y sus Notas son razonablemente correctos y responsabilidad del emisor
B38: _________________________________________ | F38: _______________________________________
B39: DR RODRIGO CARRASCO RAMIREZ | F39: CP RAMIRO CONTRERAS RODRIGUEZ
B40: DIRECTOR GENERAL | F40: SUBDIRECTOR DE FINANZAS Y ADMINISTRACION

Sheet ID
A1: ESTADO ANALÍTICO DEL EJERCICIO DEL PRESUPUESTO DE EGRESOS
A2: INTERESES DE LA DEUDA
A3: Del 01 Enero al 30 de Septiembre del 2018
A5: Ente Público: | C5: INSTITUTO TECNOLOGICO SUPERIOR DE SALVATIERRA
A7: Identificación de Crédito o Instrumento | C7: Devengado | D7: Pagado
A8: Créditos Bancarios
A19: Total de Intereses de Créditos Bancarios | C19: =SUM(C9:C18) -> 0 | D19: =SUM(D9:D18) -> 0
A21: Otros Instrumentos de Deuda
A34: Total de Intereses de Otros Instrumentos de Deuda | C34: =SUM(C22:C33) -> 0 | D34: =SUM(D22:D33) -> 0
A36: TOTAL | C36: =+C19+C34 -> 0 | D36: =+D19+D34 -> 0
A38: Bajo protesta de decir verdad declaramos que los Estados Financieros y sus Notas son razonablemente correctos y responsabilidad del emisor
A41: ________________________________________ | B41: _________________________________________
A42: DR. RODRIGO CARRASCO RAMIREZ | C42: CP RAMIRO CONTERAS RODRIGUEZ
A43: DIRECTOR GENERAL | C43: SUBDIRECTOR DE FINANZAS Y ADMINISTRACION

Sheet IPF
A1: ESTADO ANALÍTICO DEL EJERCICIO DEL PRESUPUESTO DE EGRESOS
A2: INDICADORES DE POSTURA FISCAL
A3: Del 01 de Enero al 30 de Septiembre de 2018
B6: Ente Público: INSTITUTO TECNOLOGICO SUPERIOR DE SALVATIERRA
A9: Concepto | C9: Estimado | D9: Devengado | E9: Pagado 3
B11: I. Ingresos Presupuestarios (I=1+2) | C11: =+C12+C13 -> 20891516 | D11: =+D12+D13 -> 29605886 | E11: =+E12+E13 -> 29589311
A12: 1. Ingresos del Gobierno de la Entidad Federativa 1 | C12: =+[1]EAI!E33 -> 0 | D12: =+[1]EAI!H33 -> 0 | E12: =+[1]EAI!I33 -> 0
A13: 2. Ingresos del Sector Paraestatal 1 | C13: 20891516 | D13: 29605886 | E13: 29589311
B14: II. Egresos Presupuestarios (II=3+4) | C14: =+C15+C16 -> 20891516 | D14: =+D15+D16 -> 22722731 | E14: =+E15+E16 -> 22564722
A15: 3. Egresos del Gobierno de la Entidad Federativa 2
A16: 4. Egresos del Sector Paraestatal 2 | C16: 20891516 | D16: 22722731 | E16: 22564722
B17: III. Balance Presupuestario (Superávit o Déficit) (III = I - II) | C17: =+C11-C14 -> 0 | D17: =+D11-D14 -> 6883155.9 | E17: =+E11-E14 -> 7024589.8
A19: Concepto | C19: Estimado | D19: Devengado | E19: Pagado 3
A21: III. Balance presupuestario (Superávit o Déficit) | C21: =+C17 -> 0 | D21: =+D17 -> 6883155.9 | E21: =+E17 -> 7024589.8
A23: IV. Intereses, Comisiones y Gastos de la Deuda
B25: V. Balance Primario ( Superávit o Déficit) (V= III - IV) | C25: =+C17-C23 -> 0 | D25: =+D21-D24 -> 6883155.9 | E25: =+E21-E24 -> 7024589.8
A27: Concepto | C27: Estimado | D27: Devengado | E27: Pagado 3
A29: A. Financiamiento | C29: =+[1]EAI!E52 -> 0 | D29: =+[1]EAI!H51 -> 0 | E29: =+[1]EAI!I54 -> 0
A31: B. Amortización de la deuda
B33: C. Endeudamiento ó desendeudamiento (C = A - B) | C33: =+C29-C31 -> 0 | D33: =+D29-D31 -> 0 | E33: =+E29-E31 -> 0
A35: Bajo protesta de decir verdad declaramos que los Estados Financieros y sus Notas son razonablemente correctos y responsabilidad del emisor
B36: 1 Los Ingresos que se presentan son los ingresos presupuestario totales sin incluir los ingresos por financiamientos. Los Ingresos del Gobierno de la Entidad Federativa corresponden a los del Poder Ejecutivo, Legislativo Judicial y Autónomos
B37: 2 Los egresos que se presentan son los egresos presupuestarios totales sin incluir los egresos por amortización. Los egresos del Gobierno de la Entidad Federativa corresponden a los del Poder Ejecutivo, Legislativo, Judicial y Órganos Autónomos
B38: 3 Para Ingresos se reportan los ingresos recaudados; para egresos se reportan los egresos pagados
B42: DR RODRIGO CARRASCO RAMIREZ | C42: CP RAMIRO CONTRERAS RODRIGUEZ
B43: DIRECTOR GENERAL | C43: SUBDIRECTOR DE FINANZAS Y ADMINISTRACION

Sheet CProg
B2: GASTO POR CATEGORIA PROGRAMÁTICA
B3: Del 1 de Enero al 30 de Septiembre de 2018
D5: Ente Público: | E5: INSTITUTO TECNOLOGICO SUPERIOR DE SALVATIERRA
B7: Concepto | E7: Egresos | L7: Subejercicio
E8: Aprobado | F8: Ampliaciones/ (Reducciones) | G8: Modificado | H8: Comprometido | I8: Devengado | J8: Ejercido | K8: Pagado
E9: 1 | F9: 2 | G9: 3 = (1 + 2 ) | H9: 4 | I9: 5 | J9: 6 | K9: 7 | L9: 6 = ( 3 - 5 )
B10: Programas
C11: Subsidios: Sector Social y Privado o Entidades Federativas y Municipios | E11: =SUM(E12:E13) -> 0 | F11: =SUM(F12:F13) -> 0 | G11: =SUM(G12:G13) -> 0 | H11: =SUM(H12:H13) -> 0 | I11: =SUM(I12:I13) -> 0 | J11: =SUM(J12:J13) -> 0 | K11: =SUM(K12:K13) -> 0 | L11: =SUM(L12:L13) -> 0
D12: Sujetos a Reglas de Operación | E12: 0 | F12: 0 | G12: =+E12+F12 -> 0 | H12: 0 | I12: 0 | J12: 0 | K12: 0 | L12: =+G12-I12 -> 0
D13: Otros Subsidios | L13: =+G13-I13 -> 0
C14: Desempeño de las Funciones | E14: =SUM(E15:E22) -> 19922334 | F14: =SUM(F15:F22) -> 21396585 | G14: =SUM(G15:G22) -> 41318919 | I14: =SUM(I15:I22) -> 21728588 | J14: =SUM(J15:J22) -> 21728588 | K14: =SUM(K15:K22) -> 21577384 | L14: =+G14-I14 -> 19590331
D15: Prestación de Servicios Públicos | E15: 15003960 | F15: 17041268 | G15: =F15+E15 -> 32045228 | I15: 16917571 | J15: 16917571 | K15: 16800491 | L15: =+G15-I15 -> 15127658
D16: Provisión de Bienes Públicos | F16: 0 | I16: 0 | J16: 0 | K16: 0 | L16: =+G16-I16 -> 0
D17: Planeación, seguimiento y evaluación de políticas públicas | E17: 4918374.3 | F17: 4355316.8 | G17: =F17+E17 -> 9273691 | I17: 4811017.3 | J17: 4811017.3 | K17: 4776892.5 | L17: =+G17-I17 -> 4462673.7
D18: Promoción y fomento | L18: =+G18-I18 -> 0
D19: Regulación y supervisión | L19: =+G19-I19 -> 0
D20: Funciones de las Fuerzas Armadas (Únicamente Gobierno Federal) | L20: =+G20-I20 -> 0
D21: Específicos | L21: =+G21-I21 -> 0
D22: Proyectos de Inversión | L22: =+G22-I22 -> 0
C23: Administrativos y de Apoyo | E23: =SUM(E24:E26) -> 969181.55 | F23: =SUM(F24:F26) -> 694640.78 | G23: =SUM(G24:G26) -> 1663822.3 | I23: =SUM(I24:I26) -> 994142.53 | J23: =SUM(J24:J26) -> 987337.88 | K23: =SUM(K24:K26) -> 987337.88 | L23: =+G23-I23 -> 669679.8
D24: Apoyo al proceso presupuestario y para mejorar la eficiencia institucional | E24: 969181.55 | F24: 694640.78 | G24: =F24+E24 -> 1663822.3 | I24: 994142.53 | J24: 987337.88 | K24: 987337.88 | L24: =+G24-I24 -> 669679.8
D25: Apoyo a la función pública y al mejoramiento de la gestión | L25: =+G25-I25 -> 0
D26: Operaciones ajenas | L26: =+G26-I26 -> 0
